BEGIN:VCALENDAR
VERSION:2.0
PRODID:-//wp-events-plugin.com//7.2.3.1//EN
TZID:Europe/Brussels
X-WR-TIMEZONE:Europe/Brussels
BEGIN:VEVENT
UID:30@lasagadesgares.be
DTSTART;TZID=Europe/Brussels:20260829T100000
DTEND;TZID=Europe/Brussels:20260830T170000
DTSTAMP:20260321T170307Z
URL:https://www.lasagadesgares.be/wordpress/events/visitez-train-word-et-2
 0-reseaux-miniatures/
SUMMARY:Visitez Train Word et 20 réseaux miniatures
DESCRIPTION:Visitez Train World (gare de Schaerbeek) et pus de 20 réseaux 
 de trains miniatures!
ATTACH;FMTTYPE=image/jpeg:https://www.lasagadesgares.be/wordpress/wp-conte
 nt/uploads/2026/02/expo-train-world.jpg
CATEGORIES:Agenda
LOCATION:Gare de Schaerbeek\, \, 
X-APPLE-STRUCTURED-LOCATION;VALUE=URI;X-ADDRESS=\, ;X-APPLE-RADIUS=100;X-TI
 TLE=Gare de Schaerbeek:geo:0,0
END:VEVENT
BEGIN:VTIMEZONE
TZID:Europe/Brussels
X-LIC-LOCATION:Europe/Brussels
BEGIN:DAYLIGHT
DTSTART:20260329T030000
TZOFFSETFROM:+0100
TZOFFSETTO:+0200
TZNAME:CEST
END:DAYLIGHT
END:VTIMEZONE
END:VCALENDAR