BEGIN:VCALENDAR
VERSION:2.0
PRODID:-//wp-events-plugin.com//7.2.3.1//EN
TZID:Europe/Brussels
X-WR-TIMEZONE:Europe/Brussels
BEGIN:VEVENT
UID:12@lasagadesgares.be
DTSTART;TZID=Europe/Brussels:20260703T100000
DTEND;TZID=Europe/Brussels:20260703T121500
DTSTAMP:20260126T222919Z
URL:https://www.lasagadesgares.be/wordpress/events/visites-guidees-au-retr
 otain/
SUMMARY:Visités guidées au Retrotrain
DESCRIPTION:Ouverture de l'Espace muséal\, du Shop et du département des 
 Archives du Patrimoine ferroviaire et Tourisme (PFT)\, et visite guidées 
 de 10h à 11h.
CATEGORIES:Agenda
END:VEVENT
BEGIN:VTIMEZONE
TZID:Europe/Brussels
X-LIC-LOCATION:Europe/Brussels
BEGIN:DAYLIGHT
DTSTART:20260329T030000
TZOFFSETFROM:+0100
TZOFFSETTO:+0200
TZNAME:CEST
END:DAYLIGHT
END:VTIMEZONE
END:VCALENDAR