BEGIN:VCALENDAR
VERSION:2.0
PRODID:-//wp-events-plugin.com//7.2.3.1//EN
TZID:Europe/Brussels
X-WR-TIMEZONE:Europe/Brussels
BEGIN:VEVENT
UID:41@lasagadesgares.be
DTSTART;TZID=Europe/Brussels:20260502T000000
DTEND;TZID=Europe/Brussels:20260503T000000
DTSTAMP:20260328T172636Z
URL:https://www.lasagadesgares.be/wordpress/events/stoomtreinfestival-mald
 egem/
SUMMARY:Stoomtreinfestival Maldegem
DESCRIPTION:Festival du train à vapeur - Stoomtreinfestival\n\nhttps://www
 .stoomtreinmaldegem.be
ATTACH;FMTTYPE=image/jpeg:https://www.lasagadesgares.be/wordpress/wp-conte
 nt/uploads/2026/03/AD09-c-Francois-Van-Parys-1-2048x1852-1.jpg
CATEGORIES:Agenda
END:VEVENT
BEGIN:VTIMEZONE
TZID:Europe/Brussels
X-LIC-LOCATION:Europe/Brussels
BEGIN:DAYLIGHT
DTSTART:20260329T030000
TZOFFSETFROM:+0100
TZOFFSETTO:+0200
TZNAME:CEST
END:DAYLIGHT
END:VTIMEZONE
END:VCALENDAR