BEGIN:VCALENDAR
VERSION:2.0
PRODID:-//wp-events-plugin.com//7.2.3.1//EN
TZID:Europe/Brussels
X-WR-TIMEZONE:Europe/Brussels
BEGIN:VEVENT
UID:43@lasagadesgares.be
DTSTART;TZID=Europe/Brussels:20260606T100000
DTEND;TZID=Europe/Brussels:20260607T170000
DTSTAMP:20260420T070942Z
URL:https://www.lasagadesgares.be/wordpress/events/portes-ouvertes-a-halan
 zy/
SUMMARY:Portes ouvertes à Halanzy
DESCRIPTION:Portes ouvertes en gare de Halanzy les samedi 06 et dimanche 07
  juin de 10h00 à 17h00. Présentation des activités\, divers projets\, b
 ar et petite restauration. Entrée gratuite.
ATTACH;FMTTYPE=image/jpeg:https://www.lasagadesgares.be/wordpress/wp-conte
 nt/uploads/2026/04/671647932_1360239256141290_5234712534739501059_n.jpg
CATEGORIES:Agenda
LOCATION:Halanzy\, Place de la Gare\, 1\, Halanzy\, 6792\, 
X-APPLE-STRUCTURED-LOCATION;VALUE=URI;X-ADDRESS=Place de la Gare\, 1\, Hala
 nzy\, 6792\, ;X-APPLE-RADIUS=100;X-TITLE=Halanzy:geo:0,0
END:VEVENT
BEGIN:VTIMEZONE
TZID:Europe/Brussels
X-LIC-LOCATION:Europe/Brussels
BEGIN:DAYLIGHT
DTSTART:20260329T030000
TZOFFSETFROM:+0100
TZOFFSETTO:+0200
TZNAME:CEST
END:DAYLIGHT
END:VTIMEZONE
END:VCALENDAR