BEGIN:VCALENDAR
VERSION:2.0
PRODID:-//wp-events-plugin.com//7.2.3.1//EN
TZID:Europe/Brussels
X-WR-TIMEZONE:Europe/Brussels
BEGIN:VEVENT
UID:21@lasagadesgares.be
DTSTART;TZID=Europe/Brussels:20260801T000000
DTEND;TZID=Europe/Brussels:20260801T000000
DTSTAMP:20260126T223011Z
URL:https://www.lasagadesgares.be/wordpress/events/ouverture-du-retrotrain
 -au-public-6/
SUMMARY:Ouverture du Retrotrain au public
DESCRIPTION:Découverte de la réserve muséale\, des fonds d'archives et d
 e documentation. Possibilité de visite guidée (individuels\, groupes) su
 r réservation (retrotrain@pfttsp.be)
CATEGORIES:Agenda
END:VEVENT
BEGIN:VTIMEZONE
TZID:Europe/Brussels
X-LIC-LOCATION:Europe/Brussels
BEGIN:DAYLIGHT
DTSTART:20260329T030000
TZOFFSETFROM:+0100
TZOFFSETTO:+0200
TZNAME:CEST
END:DAYLIGHT
END:VTIMEZONE
END:VCALENDAR