BEGIN:VCALENDAR
VERSION:2.0
PRODID:-//wp-events-plugin.com//7.2.3.1//EN
TZID:Europe/Brussels
X-WR-TIMEZONE:Europe/Brussels
BEGIN:VEVENT
UID:39@lasagadesgares.be
DTSTART;TZID=Europe/Brussels:20261004T000000
DTEND;TZID=Europe/Brussels:20261004T000000
DTSTAMP:20260321T171559Z
URL:https://www.lasagadesgares.be/wordpress/events/kaaiken-rommelmarkt/
SUMMARY:Kaaiken Rommelmarkt
DESCRIPTION:Kaaifeesten Eeklo\n\n4 oktober 2026 | Kaaiken Rommelmarkt – S
 toomtrein Maldegem-Eeklo
CATEGORIES:Agenda
END:VEVENT
BEGIN:VTIMEZONE
TZID:Europe/Brussels
X-LIC-LOCATION:Europe/Brussels
BEGIN:DAYLIGHT
DTSTART:20260329T030000
TZOFFSETFROM:+0100
TZOFFSETTO:+0200
TZNAME:CEST
END:DAYLIGHT
END:VTIMEZONE
END:VCALENDAR