BEGIN:VCALENDAR
VERSION:2.0
PRODID:-//wp-events-plugin.com//7.2.3.1//EN
TZID:Europe/Brussels
X-WR-TIMEZONE:Europe/Brussels
BEGIN:VEVENT
UID:31@lasagadesgares.be
DTSTART;TZID=Europe/Brussels:20270101T120000
DTEND;TZID=Europe/Brussels:20270101T130000
DTSTAMP:20260313T171906Z
URL:https://www.lasagadesgares.be/wordpress/events/concert-de-nouvel-an-te
 st-de-billetterie/
SUMMARY:Concert de nouvel an (test de billetterie)
DESCRIPTION:
CATEGORIES:Agenda
LOCATION:PFT-TSP Saint-Ghislain\, N547\, viaduc de St-Ghislain\, St-Ghislai
 n\, 7330\, Belgique
X-APPLE-STRUCTURED-LOCATION;VALUE=URI;X-ADDRESS=N547\, viaduc de St-Ghislai
 n\, St-Ghislain\, 7330\, Belgique;X-APPLE-RADIUS=100;X-TITLE=PFT-TSP Saint
 -Ghislain:geo:0,0
END:VEVENT
BEGIN:VTIMEZONE
TZID:Europe/Brussels
X-LIC-LOCATION:Europe/Brussels
BEGIN:STANDARD
DTSTART:20261025T020000
TZOFFSETFROM:+0200
TZOFFSETTO:+0100
TZNAME:CET
END:STANDARD
END:VTIMEZONE
END:VCALENDAR