BEGIN:VCALENDAR
VERSION:2.0
PRODID:-//wp-events-plugin.com//7.2.3.1//EN
TZID:Europe/Brussels
X-WR-TIMEZONE:Europe/Brussels
BEGIN:VEVENT
UID:11@lasagadesgares.be
DTSTART;TZID=Europe/Brussels;VALUE=DATE:20261205
DTEND;TZID=Europe/Brussels;VALUE=DATE:20261206
DTSTAMP:20260126T223209Z
URL:https://www.lasagadesgares.be/wordpress/events/bourse-des-modelistes-a
 u-retrotrain-3/
SUMMARY:Bourse des modélistes au Retrotrain
DESCRIPTION:Bourse des modélistes au Retrotrain\n\nBourse des modélistes 
 ferroviaires\, ouverture de l'Espace muséal\, du Shop et du département 
 des Archives du Patrimoine ferroviaire et Tourisme (PFT)
CATEGORIES:Agenda
END:VEVENT
BEGIN:VTIMEZONE
TZID:Europe/Brussels
X-LIC-LOCATION:Europe/Brussels
BEGIN:STANDARD
DTSTART:20261025T020000
TZOFFSETFROM:+0200
TZOFFSETTO:+0100
TZNAME:CET
END:STANDARD
END:VTIMEZONE
END:VCALENDAR