BEGIN:VCALENDAR
VERSION:2.0
PRODID:-//wp-events-plugin.com//7.2.3.1//EN
TZID:Europe/Brussels
X-WR-TIMEZONE:Europe/Brussels
BEGIN:VEVENT
UID:10@lasagadesgares.be
DTSTART;TZID=Europe/Brussels;VALUE=DATE:20260912
DTEND;TZID=Europe/Brussels;VALUE=DATE:20260913
DTSTAMP:20260126T223059Z
URL:https://www.lasagadesgares.be/wordpress/events/bourse-des-modelistes-a
 u-retrotrain-2/
SUMMARY:Bourse des modélistes au Retrotrain
DESCRIPTION:Bourse des modélistes ferroviaires\, ouverture de l'espace mus
 éal\, du Shop et des archives du Patrimoine ferroviaire et Tourisme (PFT)
 .
CATEGORIES:Agenda
END:VEVENT
BEGIN:VTIMEZONE
TZID:Europe/Brussels
X-LIC-LOCATION:Europe/Brussels
BEGIN:DAYLIGHT
DTSTART:20260329T030000
TZOFFSETFROM:+0100
TZOFFSETTO:+0200
TZNAME:CEST
END:DAYLIGHT
END:VTIMEZONE
END:VCALENDAR