BEGIN:VCALENDAR
VERSION:2.0
PRODID:-//wp-events-plugin.com//7.2.3.1//EN
TZID:Europe/Brussels
X-WR-TIMEZONE:Europe/Brussels
BEGIN:VEVENT
UID:25@lasagadesgares.be
DTSTART;TZID=Europe/Brussels:20260510T090000
DTEND;TZID=Europe/Brussels:20260510T130000
DTSTAMP:20260126T222838Z
URL:https://www.lasagadesgares.be/wordpress/events/bourse-dechanges-a-huy/
SUMMARY:Bourse d'échanges à Huy
DESCRIPTION:Bourse d'échanges à l'école Don Bosco\n\n&nbsp\;
ATTACH;FMTTYPE=image/jpeg:https://www.lasagadesgares.be/wordpress/wp-conte
 nt/uploads/2026/01/a4-10-05-26.jpg
CATEGORIES:Agenda
END:VEVENT
BEGIN:VTIMEZONE
TZID:Europe/Brussels
X-LIC-LOCATION:Europe/Brussels
BEGIN:DAYLIGHT
DTSTART:20260329T030000
TZOFFSETFROM:+0100
TZOFFSETTO:+0200
TZNAME:CEST
END:DAYLIGHT
END:VTIMEZONE
END:VCALENDAR